BEGIN:VCALENDAR
VERSION:2.0
PRODID:icalendar-ruby
CALSCALE:GREGORIAN
METHOD:PUBLISH
BEGIN:VEVENT
DTSTAMP:20260423T090439Z
UID:9-746320@faithalive.com
DTSTART:20261011T170000Z
DTEND:20261011T181500Z
CLASS:PUBLIC
CREATED:20260422T211517
DESCRIPTION:Our Spanish language worship service follows a traditional litu
 rgy with contemporary and original worship music. Come as you are! We can'
 t wait to see you!
LAST-MODIFIED:20260422T211517
LOCATION:801 E Camelback Rd\, Sanctuary
SUMMARY:Servicio en Espanol / Worship in Spanish
URL;VALUE=URI:https://www.faithalive.com/events/servicio-en-espanol-worship
 -in-spanish/2026-10-11
END:VEVENT
END:VCALENDAR
