BEGIN:VCALENDAR
VERSION:2.0
PRODID:icalendar-ruby
CALSCALE:GREGORIAN
METHOD:PUBLISH
BEGIN:VEVENT
DTSTAMP:20260419T114611Z
UID:8-735468@faithalive.com
DTSTART:20261018T150000Z
DTEND:20261018T160000Z
CLASS:PUBLIC
CREATED:20260419T020605
DESCRIPTION:Our English language worship service is a more traditional wors
 hip style. Come as you are! We can't wait to see you.
LAST-MODIFIED:20260419T020605
LOCATION:801 E Camelback Rd\, Sanctuary
SUMMARY:Worship in English / Servicio en Ingles
URL;VALUE=URI:https://www.faithalive.com/events/worship-in-english-servicio
 -en-ingles/2026-10-18
END:VEVENT
END:VCALENDAR
